BEGIN:VCALENDAR
VERSION:2.0
PRODID:http://www.katholisch-in-voelklingen.de
BEGIN:VEVENT
UID:f65de906-3d30-11f1-a3e9-0242ac11002b-1781962200000-de
DTSTAMP:20260421T031952Z
DTSTART:20260620T133000Z
DTEND:20260620T143000Z
SUMMARY;LANGUAGE=de: Taufe 
URL:http://www.katholisch-in-voelklingen.de/aktuelles/gottesdienste/gottesdienst/Taufe-2026.06.20/
END:VEVENT
END:VCALENDAR
